BEGIN:VCALENDAR
VERSION:2.0
PRODID:-//wp-events-plugin.com//7.2.3.1//EN
TZID:Europe/Berlin
X-WR-TIMEZONE:Europe/Berlin
BEGIN:VEVENT
UID:19@verein-ulm-oberschwaben.de
DTSTART;TZID=Europe/Berlin:20241023T193000
DTEND;TZID=Europe/Berlin:20241023T210000
DTSTAMP:20240926T093145Z
URL:https://verein-ulm-oberschwaben.de/events/das-salbuch-der-herrschaft-h
 elfenstein-1415-24-eineherausragende-quelle-zur-territorialgeschichte-derr
 eichsstadt-ulm-und-der-oestlichen-schwaebischen-alb/
SUMMARY:Das Salbuch der Herrschaft Helfenstein (1415-24): eine herausragend
 e Quelle zur Territorialgeschichte der Reichsstadt Ulm und der (östlichen
 ) Schwäbischen Alb
DESCRIPTION:\nDr. Andre Gutmann (Freiburg)\n\n\n\nDie Reichsstadt Ulm verf
 ügte im 15. Jahrhundert über ein bedeutendes Territorium\, darunter maß
 geblich die Herrschaft Helfenstein\, \n\n\n\n
CATEGORIES:Vorträge
LOCATION:Gewölbesaal im Schwörhaus\, Weinhof 12\, Ulm\, Baden-Württember
 g\, 89073\, Deutschland
X-APPLE-STRUCTURED-LOCATION;VALUE=URI;X-ADDRESS=Weinhof 12\, Ulm\, Baden-W
 ürttemberg\, 89073\, Deutschland;X-APPLE-RADIUS=100;X-TITLE=Gewölbesaal 
 im Schwörhaus:geo:0,0
END:VEVENT
BEGIN:VTIMEZONE
TZID:Europe/Berlin
X-LIC-LOCATION:Europe/Berlin
BEGIN:DAYLIGHT
DTSTART:20240331T030000
TZOFFSETFROM:+0100
TZOFFSETTO:+0200
TZNAME:CEST
END:DAYLIGHT
END:VTIMEZONE
END:VCALENDAR