BEGIN:VCALENDAR
VERSION:2.0
PRODID:-//wp-events-plugin.com//7.2.3.1//EN
TZID:Europe/Berlin
X-WR-TIMEZONE:Europe/Berlin
BEGIN:VEVENT
UID:26@verein-ulm-oberschwaben.de
DTSTART;TZID=Europe/Berlin:20250604T193000
DTEND;TZID=Europe/Berlin:20250604T193000
DTSTAMP:20250519T071733Z
URL:https://verein-ulm-oberschwaben.de/events/zwischen-aufklaerung-politis
 chem-katholizismus-und-ultramontanismus-andreas-alois-wiest-1796-1861-und-
 sein-oberschwaebisches-netzwerk/
SUMMARY:Zwischen Aufklärung\, politischem Katholizismus und Ultramontanism
 us: Andreas Alois Wiest (1796–1861) und sein oberschwäbisches Netzwerk
DESCRIPTION:\n Dr. Amelie Bieg (Würzburg)\n\n\n\nDer Ulmer Jurist Andrea
 s Alois Wiest war einer der prominentesten Vorkämpfer für die Sache der 
 katholischen Kirche im Königreich Württemberg in den 1830er und 1840er J
 ahren. Zur Erreichung ihrer Ziele setzten Wiest und seine Mitstreiter viel
 fältige Mittel ein: die Herausgabe einer Zeitung\, die Abfassung von Peti
 tionen und nicht zuletzt auch die politische Einflussnahme im Stuttgarter 
 Landtag.\n\n\n\n\n
CATEGORIES:Vorträge
LOCATION:Gewölbesaal im Schwörhaus\, Weinhof 12\, Ulm\, Baden-Württember
 g\, 89073\, Deutschland
X-APPLE-STRUCTURED-LOCATION;VALUE=URI;X-ADDRESS=Weinhof 12\, Ulm\, Baden-W
 ürttemberg\, 89073\, Deutschland;X-APPLE-RADIUS=100;X-TITLE=Gewölbesaal 
 im Schwörhaus:geo:0,0
END:VEVENT
BEGIN:VTIMEZONE
TZID:Europe/Berlin
X-LIC-LOCATION:Europe/Berlin
BEGIN:DAYLIGHT
DTSTART:20250330T030000
TZOFFSETFROM:+0100
TZOFFSETTO:+0200
TZNAME:CEST
END:DAYLIGHT
END:VTIMEZONE
END:VCALENDAR